BEGIN:VCALENDAR
VERSION:2.0
PRODID:-//ChamberMaster//Event Calendar 2.0//EN
METHOD:PUBLISH
X-PUBLISHED-TTL:P3D
REFRESH-INTERVAL:P3D
CALSCALE:GREGORIAN
BEGIN:VEVENT
DTSTART:20230211T180000Z
DTEND:20230211T220000Z
X-MICROSOFT-CDO-ALLDAYEVENT:FALSE
SUMMARY:Preserving Kodiak's Bounty - Part 1
DESCRIPTION:Preserving Kodiak's Bounty\n\nPickling\, waterbath canning\, and dehydrating.
X-ALT-DESC;FMTTYPE=text/html:Preserving Kodiak&#39\;s Bounty<br />\nPickling\, waterbath canning\, and dehydrating.
LOCATION:Kodiak High School Culinary Arts Kitchen
UID:e.2267.12085
SEQUENCE:3
DTSTAMP:20260420T142456Z
URL:https://business.kodiakchamber.org/events/details/preserving-kodiak-s-bounty-part-1-12085
END:VEVENT

END:VCALENDAR
