BEGIN:VCALENDAR
VERSION:2.0
PRODID:-//ChamberMaster//Event Calendar 2.0//EN
METHOD:PUBLISH
X-PUBLISHED-TTL:P3D
REFRESH-INTERVAL:P3D
CALSCALE:GREGORIAN
BEGIN:VEVENT
DTSTART:20231202T003000Z
DTEND:20231202T020000Z
X-MICROSOFT-CDO-ALLDAYEVENT:FALSE
SUMMARY:Grinch
DESCRIPTION:The children's movie Grinch will be shown Friday\, December 1st at 3:30pm.
X-ALT-DESC;FMTTYPE=text/html:The children&rsquo\;s movie Grinch will be shown Friday\, December 1st at 3:30pm.
LOCATION:612 Egan Way
UID:e.2267.12890
SEQUENCE:3
DTSTAMP:20260424T054906Z
URL:https://business.kodiakchamber.org/events/details/grinch-12890
END:VEVENT

END:VCALENDAR
